BEGIN:VCALENDAR
VERSION:2.0
PRODID:-//erayacoworking.com - ECPv6.15.14//NONSGML v1.0//EN
CALSCALE:GREGORIAN
METHOD:PUBLISH
X-ORIGINAL-URL:https://erayacoworking.com
X-WR-CALDESC:Events for erayacoworking.com
REFRESH-INTERVAL;VALUE=DURATION:PT1H
X-Robots-Tag:noindex
X-PUBLISHED-TTL:PT1H
BEGIN:VTIMEZONE
TZID:UTC
BEGIN:STANDARD
TZOFFSETFROM:+0000
TZOFFSETTO:+0000
TZNAME:UTC
DTSTART:20210101T000000
END:STANDARD
END:VTIMEZONE
BEGIN:VEVENT
DTSTART;TZID=UTC:20251030T080000
DTEND;TZID=UTC:20251130T100000
DTSTAMP:20260418T052354
CREATED:20170517T203617Z
LAST-MODIFIED:20250921T193638Z
UID:1754-1761811200-1764496800@erayacoworking.com
SUMMARY:Small Business Saturday Workshop
DESCRIPTION:
URL:https://erayacoworking.com/event/small-business-saturday-workshop/
LOCATION:Chandigarh\, Plot No 28 Industrial Area Phase 2 Chandigarh\, Chandigarh\, Chandigarh\, 160002\, India
CATEGORIES:Seminars
ATTACH;FMTTYPE=image/jpeg:https://erayacoworking.com/wp-content/uploads/2017/05/event-4.jpg
END:VEVENT
BEGIN:VEVENT
DTSTART;TZID=UTC:20221031T080000
DTEND;TZID=UTC:20251108T170000
DTSTAMP:20260418T052354
CREATED:20170517T203707Z
LAST-MODIFIED:20250921T193730Z
UID:1756-1667203200-1762621200@erayacoworking.com
SUMMARY:Consulting Business Credit Building
DESCRIPTION:
URL:https://erayacoworking.com/event/consulting-business-credit-building/
LOCATION:Chandigarh\, Plot No 28 Industrial Area Phase 2 Chandigarh\, Chandigarh\, Chandigarh\, 160002\, India
CATEGORIES:Seminars
ATTACH;FMTTYPE=image/jpeg:https://erayacoworking.com/wp-content/uploads/2017/05/event-3.jpg
ORGANIZER;CN="Gary Jones":MAILTO:info@demo.com
END:VEVENT
BEGIN:VEVENT
DTSTART;TZID=UTC:20221031T000000
DTEND;TZID=UTC:20251125T235900
DTSTAMP:20260418T052354
CREATED:20170517T203424Z
LAST-MODIFIED:20250921T193845Z
UID:1746-1667174400-1764115140@erayacoworking.com
SUMMARY:Taking Your Startup to The Next Level
DESCRIPTION:
URL:https://erayacoworking.com/event/taking-your-startup-to-the-next-level/
LOCATION:Chandigarh\, Plot No 28 Industrial Area Phase 2 Chandigarh\, Chandigarh\, Chandigarh\, 160002\, India
CATEGORIES:Seminars
ATTACH;FMTTYPE=image/jpeg:https://erayacoworking.com/wp-content/uploads/2017/05/event-1.jpg
ORGANIZER;CN="Gary Jones":MAILTO:info@demo.com
END:VEVENT
BEGIN:VEVENT
DTSTART;TZID=UTC:20221012T080000
DTEND;TZID=UTC:20221012T170000
DTSTAMP:20260418T052354
CREATED:20170517T203524Z
LAST-MODIFIED:20250921T193801Z
UID:1752-1665561600-1665594000@erayacoworking.com
SUMMARY:The new startup is on the way
DESCRIPTION:
URL:https://erayacoworking.com/event/the-new-startup-is-on-the-way/
LOCATION:Chandigarh\, Plot No 28 Industrial Area Phase 2 Chandigarh\, Chandigarh\, Chandigarh\, 160002\, India
CATEGORIES:Seminars
ATTACH;FMTTYPE=image/jpeg:https://erayacoworking.com/wp-content/uploads/2017/05/event-2.jpg
ORGANIZER;CN="Gary Jones":MAILTO:info@demo.com
END:VEVENT
END:VCALENDAR